BEGIN:VCALENDAR
VERSION:2.0
PRODID:-//Contratero//ES
CALSCALE:GREGORIAN
METHOD:PUBLISH
BEGIN:VEVENT
UID:CONTR 2025/25772@contratero.es
DTSTAMP:20260421T234212Z
DTSTART:20251229T235959
DTEND:20251230T005959
SUMMARY:Cierre: Servicio de alquiler de un servidor externo para l
DESCRIPTION:Servicio de alquiler de un servidor externo para la base de datos de calidad del aire de las Islas Baleares y servicio de responsable de seguridad (CISO as a service) del sistema de adquisición\, almac...\\n\\nOrganismo: Consejería de Empresa\, Autónomos y Energía de las Illes Balears\\n\\nVer en Contratero: https://contratero.es/contracts/CONTR 2025/25772
URL:https://contratero.es/contracts/CONTR 2025/25772
STATUS:CONFIRMED
BEGIN:VALARM
TRIGGER:-P1D
ACTION:DISPLAY
DESCRIPTION:Recordatorio: Servicio de alquiler de un ser
END:VALARM
END:VEVENT
END:VCALENDAR